BEGIN:VCALENDAR
VERSION:2.0
PRODID:-//Little Wilbraham and Six Mile Bottom Parish Council//Meeting Calendar//EN
CALSCALE:GREGORIAN
METHOD:PUBLISH
BEGIN:VEVENT
UID:70472-20250508@lwsmb-pc.gov.uk
DTSTAMP:20260420T092356Z
DTSTART;VALUE=DATE:20250508
DTEND;VALUE=DATE:20250509
SUMMARY:Full council meeting
DESCRIPTION:Full Council Meeting\nView details: https://lwsmb-pc.gov.uk/meetings/full-council-meeting-2/
URL:https://lwsmb-pc.gov.uk/meetings/full-council-meeting-2/
END:VEVENT
END:VCALENDAR
