BEGIN:VCALENDAR
VERSION:2.0
PRODID:-//Little Wilbraham and Six Mile Bottom Parish Council//Meeting Calendar//EN
CALSCALE:GREGORIAN
METHOD:PUBLISH
BEGIN:VEVENT
UID:70475-20250320@lwsmb-pc.gov.uk
DTSTAMP:20260421T083026Z
DTSTART;VALUE=DATE:20250320
DTEND;VALUE=DATE:20250321
SUMMARY:Full council meeting
DESCRIPTION:Full Council Meeting\nView details: https://lwsmb-pc.gov.uk/meetings/full-council-meeting-3/
URL:https://lwsmb-pc.gov.uk/meetings/full-council-meeting-3/
END:VEVENT
END:VCALENDAR
