BEGIN:VCALENDAR
VERSION:2.0
PRODID:-//Little Wilbraham and Six Mile Bottom Parish Council//Meeting Calendar//EN
CALSCALE:GREGORIAN
METHOD:PUBLISH
BEGIN:VEVENT
UID:70709-20260122@lwsmb-pc.gov.uk
DTSTAMP:20260425T154940Z
DTSTART;VALUE=DATE:20260122
DTEND;VALUE=DATE:20260123
SUMMARY:LW and SMB PC meeting 22/1/26 19:30
DESCRIPTION:Full Council Meeting\nView details: https://lwsmb-pc.gov.uk/meetings/lw-and-smb-pc-meeting-22-1-26-1930/
URL:https://lwsmb-pc.gov.uk/meetings/lw-and-smb-pc-meeting-22-1-26-1930/
END:VEVENT
END:VCALENDAR
