BEGIN:VCALENDAR
VERSION:2.0
PRODID:-//Little Wilbraham and Six Mile Bottom Parish Council//Meeting Calendar//EN
CALSCALE:GREGORIAN
METHOD:PUBLISH
BEGIN:VEVENT
UID:70743-20260312@lwsmb-pc.gov.uk
DTSTAMP:20260421T084612Z
DTSTART;VALUE=DATE:20260312
DTEND;VALUE=DATE:20260313
SUMMARY:LW and SMB PC meeting 12-3-26
DESCRIPTION:Full Council Meeting\nView details: https://lwsmb-pc.gov.uk/meetings/lw-and-smb-pc-meeting-12-3-26/
URL:https://lwsmb-pc.gov.uk/meetings/lw-and-smb-pc-meeting-12-3-26/
END:VEVENT
END:VCALENDAR
